BEGIN:VCALENDAR
VERSION:2.0
PRODID:-//ChamberMaster//Event Calendar 2.0//EN
METHOD:PUBLISH
X-PUBLISHED-TTL:P3D
REFRESH-INTERVAL:P3D
CALSCALE:GREGORIAN
BEGIN:VEVENT
DTSTART:20230609T123000Z
DTEND:20230609T140000Z
X-MICROSOFT-CDO-ALLDAYEVENT:FALSE
SUMMARY:Home Builder and Sub Contractor Member Roundtable
DESCRIPTION:Thank you for being a member of the Tangipahoa Chamber!  We are excited to offer industry specific roundtables as a member benefit this year to help you grow. We hope that our home builder and subcontracts and/or local managers will commit to join us.\n\n\n\nSpecial thanks to James Barras with Professional Heating and Air and Amy Ybarzabal with Northshore Home Builders Association for helping us lead this discussion.  We are proud to have them both as members of our Board of Directors.\n\n \n\nThe first meet up will be Friday\, June 9\, from 7:30   9:00 a.m. in the Tangipahoa Chamber Frances Chauvin Board Room.
X-ALT-DESC;FMTTYPE=text/html:<div style="caret-color: rgb(33\, 33\, 33)\; color: rgb(33\, 33\, 33)\; font-family: wf_segoe-ui_normal\, &quot\;Segoe UI&quot\;\, &quot\;Segoe WP&quot\;\, Tahoma\, Arial\, sans-serif\, serif\, EmojiFont\; font-size: 15px\; margin: 0px\;"><span style="font-size:12px\;"><span style="font-family:arial\;"><font style="font-family: Calibri\, sans-serif\, serif\, EmojiFont\;">Thank you for being a member of the Tangipahoa Chamber!&nbsp\; We are excited to offer industry specific roundtables as a member benefit this year to help you grow. We hope that our home builder and subcontracts&nbsp\;and/or local managers will commit to join us.<br />\n<br />\nSpecial thanks to James Barras with Professional Heating and Air and Amy Ybarzabal with Northshore Home Builders Association for helping us lead this discussion.&nbsp\; We are proud to have them both as members of our Board of Directors.</font></span></span></div>\n\n<div style="caret-color: rgb(33\, 33\, 33)\; color: rgb(33\, 33\, 33)\; font-family: wf_segoe-ui_normal\, &quot\;Segoe UI&quot\;\, &quot\;Segoe WP&quot\;\, Tahoma\, Arial\, sans-serif\, serif\, EmojiFont\; font-size: 15px\; margin: 0px\;"><span style="font-size:12px\;"><span style="font-family:arial\;"><font style="font-family: Calibri\, sans-serif\, serif\, EmojiFont\;">&nbsp\;</font></span></span></div>\n\n<div style="caret-color: rgb(33\, 33\, 33)\; color: rgb(33\, 33\, 33)\; font-family: wf_segoe-ui_normal\, &quot\;Segoe UI&quot\;\, &quot\;Segoe WP&quot\;\, Tahoma\, Arial\, sans-serif\, serif\, EmojiFont\; font-size: 15px\; margin: 0px\;"><span style="font-size:12px\;"><span style="font-family:arial\;"><font style="font-family: Calibri\, sans-serif\, serif\, EmojiFont\;"><span class="contextualExtensionHighlight ms-font-color-themePrimary ms-border-color-themePrimary ident_436_557" role="button" style="border-color: rgb(0\, 120\, 215)\; color: rgb(0\, 120\, 215)\; border-bottom-width: 1px\; border-bottom-style: dashed\; cursor: pointer\;" tabindex="0">The first meet up will be Friday\, June 9\, from 7:30 &ndash\; 9:00 a.m. in the Tangipahoa Chamber Frances Chauvin Board Room.</span></font></span></span></div>\n\n<div style="caret-color: rgb(33\, 33\, 33)\; color: rgb(33\, 33\, 33)\; font-family: wf_segoe-ui_normal\, &quot\;Segoe UI&quot\;\, &quot\;Segoe WP&quot\;\, Tahoma\, Arial\, sans-serif\, serif\, EmojiFont\; font-size: 15px\; margin: 0px\;"><span style="font-size:12px\;"><span style="font-family:arial\;"><font style="font-family: Calibri\, sans-serif\, serif\, EmojiFont\;">&nbsp\;</font></span></span></div>\n
LOCATION:Tangipahoa Chamber Frances Chauvin Board Room
UID:e.1729.2271
SEQUENCE:3
DTSTAMP:20260420T064100Z
URL:http://hammondchamber.chambermaster.com/events/details/home-builder-and-sub-contractor-member-roundtable-2271
END:VEVENT

END:VCALENDAR
