BEGIN:VCALENDAR
VERSION:2.0
PRODID:-//ChamberMaster//Event Calendar 2.0//EN
METHOD:PUBLISH
X-PUBLISHED-TTL:P3D
REFRESH-INTERVAL:P3D
CALSCALE:GREGORIAN
BEGIN:VEVENT
DTSTART:20221103T163000Z
DTEND:20221103T180000Z
X-MICROSOFT-CDO-ALLDAYEVENT:FALSE
SUMMARY:Leads for Lunch
DESCRIPTION:The Tangipahoa Chamber invites you to meet fellow business leaders and share information about your products and services. Each Chamber member business will have 60 seconds to brag on what your team does best!  If more than one representative attends they will share this time. Have fun with it! \n\n\n\nOur Ambassadors look forward to welcoming you!  \n\n\n\nBusiness attending Leads are welcome to bring one door prize. We encourage a $25 - $50 range. Ambassadors will draw for winners at the end of networking.  Your business will be tagged in the social media promo after the Leads for Lunch event.
X-ALT-DESC;FMTTYPE=text/html:<span style="font-size:12px\;"><span style="font-family:arial\;">The Tangipahoa Chamber invites you to meet fellow business leaders and share information about your products and services. Each Chamber member business will have 60 seconds to brag on what your team does best!&nbsp\; If more than one representative attends they will share this time. Have fun with it!&nbsp\;<br />\n<br />\nOur Ambassadors look forward to welcoming you!&nbsp\;&nbsp\;</span></span><br />\n<br />\n<span style="font-family: arial\; font-size: 12px\;">Business attending Leads are welcome to bring one door prize. We encourage a $25 - $50 range. Ambassadors will draw for winners at the end of networking.&nbsp\; Your business will be tagged in the social media promo after the Leads for Lunch event.</span>
LOCATION:Tangipahoa Chamber 400 NW Railroad Avenue Hamond\, LA 70401
UID:e.1729.2158
SEQUENCE:3
DTSTAMP:20260425T171349Z
URL:http://hammondchamber.chambermaster.com/events/details/leads-for-lunch-2158
END:VEVENT

END:VCALENDAR
