BEGIN:VCALENDAR
VERSION:2.0
PRODID:-//ChamberMaster//Event Calendar 2.0//EN
METHOD:PUBLISH
X-PUBLISHED-TTL:P3D
REFRESH-INTERVAL:P3D
CALSCALE:GREGORIAN
BEGIN:VEVENT
DTSTART:20221205T220000Z
DTEND:20221205T223000Z
X-MICROSOFT-CDO-ALLDAYEVENT:FALSE
SUMMARY:Ribbon Cutting for Rhino Web Studios
DESCRIPTION:Rhino Web Studios is celebrating their Ribbon Cutting on Monday\, December 5\, at 4:00 p.m. The Tangipahoa Chamber and Ponchatoula Chamber invite you to gather at their 122 W Pine Street location in Ponchatoula for their Ribbon Cutting photo at the start of the 4:00 p.m. event.\n\n\n\nBrett Thomas\, CEO/President and Carlene Melton look forward to seeing you and sharing more about what their team does best.  Want to learn more about Rhino Web Studios before their big day?  Check them out at www.rhinopm.com or call them at 985-445-7562.
X-ALT-DESC;FMTTYPE=text/html:<span style="font-family:arial\;">Rhino Web Studios is celebrating their Ribbon Cutting on Monday\, December 5\, at 4:00 p.m. The Tangipahoa Chamber and Ponchatoula Chamber invite you to gather at their 122 W Pine Street location in Ponchatoula for their Ribbon Cutting photo at the start of the 4:00 p.m. event.<br />\n<br />\nBrett Thomas\, CEO/President and Carlene Melton look forward to seeing you and sharing more about what their team does best.&nbsp\; Want to learn more about Rhino Web Studios before their big day?&nbsp\; Check them out at www.rhinopm.com or call them at 985-445-7562.</span><br />\n&nbsp\;
LOCATION:Rhino Web Studios 122 W Pine Street Ponchatoula\, LA 70454
UID:e.1729.2169
SEQUENCE:3
DTSTAMP:20260426T014958Z
URL:http://hammondchamber.chambermaster.com/events/details/ribbon-cutting-for-rhino-web-studios-2169
END:VEVENT

END:VCALENDAR
