BEGIN:VCALENDAR
VERSION:2.0
PRODID:-//ChamberMaster//Event Calendar 2.0//EN
METHOD:PUBLISH
X-PUBLISHED-TTL:P3D
REFRESH-INTERVAL:P3D
CALSCALE:GREGORIAN
BEGIN:VEVENT
DTSTART:20230113T220000Z
DTEND:20230113T223000Z
X-MICROSOFT-CDO-ALLDAYEVENT:FALSE
SUMMARY:Ribbon Cutting for True Title
DESCRIPTION:The Tangipahoa Chamber and Hammond Downtown Development District invite you to help the team at True Title celebrate their Ribbon Cutting on Friday\, January 13\, at 4:00 p.m. at their 200 W. Thomas Street location in Hammond.\n\n\n\nBe sure to follow True Title on social media to learn more about the services they provide and check them out at www.truetitle.net. We are proud to have them as members of the Tangipahoa Chamber and right here in downtown Hammond.
X-ALT-DESC;FMTTYPE=text/html:<span style="font-size:14px\;"><span style="font-family:arial\;">The Tangipahoa Chamber and Hammond Downtown Development District invite you to help the team at True Title celebrate their Ribbon Cutting on Friday\, January 13\, at 4:00 p.m. at their 200 W. Thomas Street location in Hammond.<br />\n<br />\nBe sure to follow True Title on social media to learn more about the services they provide and check them out at www.truetitle.net. We are proud to have them as members of the Tangipahoa Chamber and right here in downtown Hammond.</span></span><br />\n&nbsp\;
LOCATION:True Title 200 W. Thomas Street Hammond\, LA 70401
UID:e.1729.2185
SEQUENCE:3
DTSTAMP:20260422T020045Z
URL:http://hammondchamber.chambermaster.com/events/details/ribbon-cutting-for-true-title-2185
END:VEVENT

END:VCALENDAR
